Package: protGear Version: 1.11.0 Command: chmod a+r protGear -R && E:\biocbuild\bbs-3.21-bioc\R\bin\R.exe CMD build --keep-empty-dirs --no-resave-data protGear StartedAt: 2025-02-09 20:53:48 -0500 (Sun, 09 Feb 2025) EndedAt: 2025-02-09 20:55:46 -0500 (Sun, 09 Feb 2025) EllapsedTime: 118.3 seconds RetCode: 0 Status: OK PackageFile: protGear_1.11.0.tar.gz PackageFileSize: 2.929 MiB