Package: protGear Version: 1.11.0 Command: E:\biocbuild\bbs-3.21-bioc\R\bin\R.exe CMD INSTALL protGear StartedAt: 2025-02-09 16:05:54 -0500 (Sun, 09 Feb 2025) EndedAt: 2025-02-09 16:06:43 -0500 (Sun, 09 Feb 2025) EllapsedTime: 49.3 seconds RetCode: 0 Status: OK