Package: proteinProfiles Version: 1.47.0 Command: /Library/Frameworks/R.framework/Resources/bin/R CMD check --install=check:proteinProfiles.install-out.txt --library=/Library/Frameworks/R.framework/Resources/library --no-vignettes --timings proteinProfiles_1.47.0.tar.gz StartedAt: 2025-02-04 20:47:57 -0500 (Tue, 04 Feb 2025) EndedAt: 2025-02-04 20:48:08 -0500 (Tue, 04 Feb 2025) EllapsedTime: 11.2 seconds RetCode: 0 Status: OK CheckDir: proteinProfiles.Rcheck Warnings: 0