Package: proteinProfiles Version: 1.47.0 Command: /home/biocbuild/R/R/bin/R CMD build --keep-empty-dirs --no-resave-data proteinProfiles StartedAt: 2025-01-29 01:23:26 -0000 (Wed, 29 Jan 2025) EndedAt: 2025-01-29 01:23:36 -0000 (Wed, 29 Jan 2025) EllapsedTime: 10.0 seconds RetCode: 0 Status: OK PackageFile: proteinProfiles_1.47.0.tar.gz PackageFileSize: 388.9 KiB