Package: proteinProfiles Version: 1.47.0 Command: /Library/Frameworks/R.framework/Resources/bin/R CMD INSTALL proteinProfiles StartedAt: 2025-02-09 15:04:04 -0500 (Sun, 09 Feb 2025) EndedAt: 2025-02-09 15:04:47 -0500 (Sun, 09 Feb 2025) EllapsedTime: 43.7 seconds RetCode: 0 Status: OK