Package: proteinProfiles Version: 1.47.0 Command: /home/biocbuild/bbs-3.21-bioc/R/bin/R CMD INSTALL proteinProfiles StartedAt: 2025-02-09 15:10:44 -0500 (Sun, 09 Feb 2025) EndedAt: 2025-02-09 15:10:56 -0500 (Sun, 09 Feb 2025) EllapsedTime: 11.7 seconds RetCode: 0 Status: OK