Package: proteinProfiles Version: 1.47.0 Command: chmod a+r proteinProfiles -R && E:\biocbuild\bbs-3.21-bioc\R\bin\R.exe CMD build --keep-empty-dirs --no-resave-data proteinProfiles StartedAt: 2025-02-12 20:59:56 -0500 (Wed, 12 Feb 2025) EndedAt: 2025-02-12 21:00:23 -0500 (Wed, 12 Feb 2025) EllapsedTime: 27.9 seconds RetCode: 0 Status: OK PackageFile: proteinProfiles_1.47.0.tar.gz PackageFileSize: 244 KiB