Package: proteinProfiles Version: 1.47.0 Command: E:\biocbuild\bbs-3.21-bioc\R\bin\R.exe CMD check --no-multiarch --install=check:proteinProfiles.install-out.txt --library=E:\biocbuild\bbs-3.21-bioc\R\library --no-vignettes --timings proteinProfiles_1.47.0.tar.gz StartedAt: 2025-02-10 04:18:55 -0500 (Mon, 10 Feb 2025) EndedAt: 2025-02-10 04:19:21 -0500 (Mon, 10 Feb 2025) EllapsedTime: 25.8 seconds RetCode: 0 Status: OK CheckDir: proteinProfiles.Rcheck Warnings: 0