Package: psichomics Version: 1.33.0 Command: rm -rf psichomics.buildbin-libdir && mkdir psichomics.buildbin-libdir && /Users/biocbuild/BBS/utils/build-universal.sh psichomics_1.33.0.tar.gz /Library/Frameworks/R.framework/Resources/bin/R psichomics.buildbin-libdir StartedAt: 2025-02-05 22:30:52 -0500 (Wed, 05 Feb 2025) EndedAt: 2025-02-05 22:31:23 -0500 (Wed, 05 Feb 2025) EllapsedTime: 31.6 seconds RetCode: 0 Status: OK PackageFile: psichomics_1.33.0.tgz PackageFileSize: 4.715 MiB