Package: psichomics Version: 1.33.0 Command: /Library/Frameworks/R.framework/Resources/bin/R CMD INSTALL psichomics StartedAt: 2025-02-05 15:19:50 -0500 (Wed, 05 Feb 2025) EndedAt: 2025-02-05 15:20:19 -0500 (Wed, 05 Feb 2025) EllapsedTime: 28.8 seconds RetCode: 0 Status: OK