Package: psichomics Version: 1.33.0 Command: /home/biocbuild/R/R/bin/R CMD build --keep-empty-dirs --no-resave-data psichomics StartedAt: 2025-01-29 01:24:02 -0000 (Wed, 29 Jan 2025) EndedAt: 2025-01-29 01:26:45 -0000 (Wed, 29 Jan 2025) EllapsedTime: 163.1 seconds RetCode: 0 Status: OK PackageFile: psichomics_1.33.0.tar.gz PackageFileSize: 6.255 MiB