Package: psichomics Version: 1.33.0 Command: /home/biocbuild/R/R/bin/R CMD INSTALL psichomics StartedAt: 2025-01-29 20:15:46 -0000 (Wed, 29 Jan 2025) EndedAt: 2025-01-29 20:17:36 -0000 (Wed, 29 Jan 2025) EllapsedTime: 109.3 seconds RetCode: 0 Status: OK