Package: psichomics Version: 1.33.0 Command: rm -rf psichomics.buildbin-libdir && mkdir psichomics.buildbin-libdir && /Users/biocbuild/BBS/utils/build-universal.sh psichomics_1.33.0.tar.gz /Library/Frameworks/R.framework/Resources/bin/R psichomics.buildbin-libdir StartedAt: 2025-02-06 00:45:57 -0500 (Thu, 06 Feb 2025) EndedAt: 2025-02-06 00:47:46 -0500 (Thu, 06 Feb 2025) EllapsedTime: 108.8 seconds RetCode: 0 Status: OK PackageFile: psichomics_1.33.0.tgz PackageFileSize: 4.696 MiB