Package: psichomics Version: 1.33.0 Command: /Library/Frameworks/R.framework/Resources/bin/R CMD build --keep-empty-dirs --no-resave-data psichomics StartedAt: 2025-02-05 17:54:46 -0500 (Wed, 05 Feb 2025) EndedAt: 2025-02-05 17:56:51 -0500 (Wed, 05 Feb 2025) EllapsedTime: 125.5 seconds RetCode: 0 Status: OK PackageFile: psichomics_1.33.0.tar.gz PackageFileSize: 6.12 MiB