Package: psichomics Version: 1.33.0 Command: /Library/Frameworks/R.framework/Resources/bin/R CMD INSTALL psichomics StartedAt: 2025-02-05 15:30:30 -0500 (Wed, 05 Feb 2025) EndedAt: 2025-02-05 15:32:09 -0500 (Wed, 05 Feb 2025) EllapsedTime: 98.6 seconds RetCode: 0 Status: OK