Package: psichomics Version: 1.33.0 Command: /home/biocbuild/bbs-3.21-bioc/R/bin/R CMD build --keep-empty-dirs --no-resave-data psichomics StartedAt: 2025-02-05 18:44:41 -0500 (Wed, 05 Feb 2025) EndedAt: 2025-02-05 18:46:35 -0500 (Wed, 05 Feb 2025) EllapsedTime: 114.1 seconds RetCode: 0 Status: OK PackageFile: psichomics_1.33.0.tar.gz PackageFileSize: 6.119 MiB