Package: psichomics Version: 1.33.0 Command: /home/biocbuild/bbs-3.21-bioc/R/bin/R CMD check --install=check:psichomics.install-out.txt --library=/home/biocbuild/bbs-3.21-bioc/R/site-library --timings psichomics_1.33.0.tar.gz StartedAt: 2025-02-06 01:35:23 -0500 (Thu, 06 Feb 2025) EndedAt: 2025-02-06 01:44:23 -0500 (Thu, 06 Feb 2025) EllapsedTime: 539.8 seconds RetCode: 0 Status: OK CheckDir: psichomics.Rcheck Warnings: 0