Package: psichomics Version: 1.33.0 Command: /home/biocbuild/bbs-3.21-bioc/R/bin/R CMD INSTALL psichomics StartedAt: 2025-02-05 15:58:23 -0500 (Wed, 05 Feb 2025) EndedAt: 2025-02-05 15:59:39 -0500 (Wed, 05 Feb 2025) EllapsedTime: 75.4 seconds RetCode: 0 Status: OK