Package: psichomics Version: 1.33.0 Command: rm -rf psichomics.buildbin-libdir && mkdir psichomics.buildbin-libdir && E:\biocbuild\bbs-3.21-bioc\R\bin\R.exe CMD INSTALL --build --library=psichomics.buildbin-libdir psichomics_1.33.0.tar.gz StartedAt: 2025-02-06 08:44:26 -0500 (Thu, 06 Feb 2025) EndedAt: 2025-02-06 08:49:36 -0500 (Thu, 06 Feb 2025) EllapsedTime: 309.3 seconds RetCode: 0 Status: OK PackageFile: psichomics_1.33.0.zip PackageFileSize: 4.958 MiB