Package: psichomics Version: 1.33.0 Command: E:\biocbuild\bbs-3.21-bioc\R\bin\R.exe CMD check --no-multiarch --install=check:psichomics.install-out.txt --library=E:\biocbuild\bbs-3.21-bioc\R\library --no-vignettes --timings psichomics_1.33.0.tar.gz StartedAt: 2025-02-06 04:48:50 -0500 (Thu, 06 Feb 2025) EndedAt: 2025-02-06 04:59:13 -0500 (Thu, 06 Feb 2025) EllapsedTime: 622.9 seconds RetCode: 0 Status: OK CheckDir: psichomics.Rcheck Warnings: 0