Package: psichomics Version: 1.33.0 Command: E:\biocbuild\bbs-3.21-bioc\R\bin\R.exe CMD INSTALL psichomics StartedAt: 2025-02-05 16:31:30 -0500 (Wed, 05 Feb 2025) EndedAt: 2025-02-05 16:35:45 -0500 (Wed, 05 Feb 2025) EllapsedTime: 254.7 seconds RetCode: 0 Status: OK