Package: pvac Version: 1.55.0 Command: /Library/Frameworks/R.framework/Resources/bin/R CMD build --keep-empty-dirs --no-resave-data pvac StartedAt: 2025-02-09 18:01:57 -0500 (Sun, 09 Feb 2025) EndedAt: 2025-02-09 18:02:41 -0500 (Sun, 09 Feb 2025) EllapsedTime: 44.5 seconds RetCode: 0 Status: OK PackageFile: pvac_1.55.0.tar.gz PackageFileSize: 257.8 KiB