Package: pvac Version: 1.55.0 Command: /home/biocbuild/bbs-3.21-bioc/R/bin/R CMD INSTALL pvac StartedAt: 2025-02-09 15:12:43 -0500 (Sun, 09 Feb 2025) EndedAt: 2025-02-09 15:12:46 -0500 (Sun, 09 Feb 2025) EllapsedTime: 2.9 seconds RetCode: 0 Status: OK