Package: pvac Version: 1.55.0 Command: rm -rf pvac.buildbin-libdir && mkdir pvac.buildbin-libdir && E:\biocbuild\bbs-3.21-bioc\R\bin\R.exe CMD INSTALL --build --library=pvac.buildbin-libdir pvac_1.55.0.tar.gz StartedAt: 2025-02-13 08:36:31 -0500 (Thu, 13 Feb 2025) EndedAt: 2025-02-13 08:36:38 -0500 (Thu, 13 Feb 2025) EllapsedTime: 7.5 seconds RetCode: 0 Status: OK PackageFile: pvac_1.55.0.zip PackageFileSize: 129.6 KiB