Package: pvca Version: 1.47.0 Command: rm -rf pvca.buildbin-libdir && mkdir pvca.buildbin-libdir && /Users/biocbuild/BBS/utils/build-universal.sh pvca_1.47.0.tar.gz /Library/Frameworks/R.framework/Resources/bin/R pvca.buildbin-libdir StartedAt: 2025-02-09 22:25:58 -0500 (Sun, 09 Feb 2025) EndedAt: 2025-02-09 22:26:04 -0500 (Sun, 09 Feb 2025) EllapsedTime: 5.1 seconds RetCode: 0 Status: OK PackageFile: pvca_1.47.0.tgz PackageFileSize: 225 KiB