Package: pvca Version: 1.47.0 Command: /Library/Frameworks/R.framework/Resources/bin/R CMD INSTALL pvca StartedAt: 2025-02-03 15:41:34 -0500 (Mon, 03 Feb 2025) EndedAt: 2025-02-03 15:41:38 -0500 (Mon, 03 Feb 2025) EllapsedTime: 4.0 seconds RetCode: 0 Status: OK