Package: pvca Version: 1.47.0 Command: /home/biocbuild/R/R/bin/R CMD build --keep-empty-dirs --no-resave-data pvca StartedAt: 2025-01-29 01:24:29 -0000 (Wed, 29 Jan 2025) EndedAt: 2025-01-29 01:24:57 -0000 (Wed, 29 Jan 2025) EllapsedTime: 28.0 seconds RetCode: 0 Status: OK PackageFile: pvca_1.47.0.tar.gz PackageFileSize: 212.4 KiB