Package: pvca Version: 1.47.0 Command: /home/biocbuild/R/R/bin/R CMD check --install=check:pvca.install-out.txt --library=/home/biocbuild/R/R/site-library --no-vignettes --timings pvca_1.47.0.tar.gz StartedAt: 2025-01-28 14:09:32 -0000 (Tue, 28 Jan 2025) EndedAt: 2025-01-28 14:10:57 -0000 (Tue, 28 Jan 2025) EllapsedTime: 85.1 seconds RetCode: 0 Status: OK CheckDir: pvca.Rcheck Warnings: 0