Package: pvca Version: 1.47.0 Command: /home/biocbuild/R/R/bin/R CMD INSTALL pvca StartedAt: 2025-01-29 19:42:31 -0000 (Wed, 29 Jan 2025) EndedAt: 2025-01-29 19:42:44 -0000 (Wed, 29 Jan 2025) EllapsedTime: 12.8 seconds RetCode: 0 Status: OK