Package: pvca Version: 1.47.0 Command: /Library/Frameworks/R.framework/Resources/bin/R CMD check --install=check:pvca.install-out.txt --library=/Library/Frameworks/R.framework/Resources/library --no-vignettes --timings pvca_1.47.0.tar.gz StartedAt: 2025-02-03 22:36:27 -0500 (Mon, 03 Feb 2025) EndedAt: 2025-02-03 22:37:46 -0500 (Mon, 03 Feb 2025) EllapsedTime: 78.9 seconds RetCode: 0 Status: OK CheckDir: pvca.Rcheck Warnings: 0