Package: pvca Version: 1.47.0 Command: /home/biocbuild/bbs-3.21-bioc/R/bin/R CMD check --install=check:pvca.install-out.txt --library=/home/biocbuild/bbs-3.21-bioc/R/site-library --timings pvca_1.47.0.tar.gz StartedAt: 2025-02-10 01:32:58 -0500 (Mon, 10 Feb 2025) EndedAt: 2025-02-10 01:34:12 -0500 (Mon, 10 Feb 2025) EllapsedTime: 74.1 seconds RetCode: 0 Status: OK CheckDir: pvca.Rcheck Warnings: 0