Package: pvca Version: 1.47.0 Command: chmod a+r pvca -R && E:\biocbuild\bbs-3.21-bioc\R\bin\R.exe CMD build --keep-empty-dirs --no-resave-data pvca StartedAt: 2025-02-09 20:54:42 -0500 (Sun, 09 Feb 2025) EndedAt: 2025-02-09 20:55:07 -0500 (Sun, 09 Feb 2025) EllapsedTime: 25.7 seconds RetCode: 0 Status: OK PackageFile: pvca_1.47.0.tar.gz PackageFileSize: 109.7 KiB