Package: pvca Version: 1.47.0 Command: E:\biocbuild\bbs-3.21-bioc\R\bin\R.exe CMD INSTALL pvca StartedAt: 2025-02-09 15:33:16 -0500 (Sun, 09 Feb 2025) EndedAt: 2025-02-09 15:33:28 -0500 (Sun, 09 Feb 2025) EllapsedTime: 11.6 seconds RetCode: 0 Status: OK