Package: pwalign Version: 1.3.2 Command: /Library/Frameworks/R.framework/Resources/bin/R CMD build --keep-empty-dirs --no-resave-data pwalign StartedAt: 2025-02-09 17:18:32 -0500 (Sun, 09 Feb 2025) EndedAt: 2025-02-09 17:19:00 -0500 (Sun, 09 Feb 2025) EllapsedTime: 27.3 seconds RetCode: 0 Status: OK PackageFile: pwalign_1.3.2.tar.gz PackageFileSize: 346.2 KiB