Package: pwalign Version: 1.3.2 Command: /Library/Frameworks/R.framework/Resources/bin/R CMD check --install=check:pwalign.install-out.txt --library=/Library/Frameworks/R.framework/Resources/library --no-vignettes --timings pwalign_1.3.2.tar.gz StartedAt: 2025-02-03 21:24:03 -0500 (Mon, 03 Feb 2025) EndedAt: 2025-02-03 21:24:45 -0500 (Mon, 03 Feb 2025) EllapsedTime: 42.6 seconds RetCode: 0 Status: OK CheckDir: pwalign.Rcheck Warnings: 0