Package: pwalign Version: 1.3.2 Command: /Library/Frameworks/R.framework/Resources/bin/R CMD INSTALL pwalign StartedAt: 2025-02-09 15:04:02 -0500 (Sun, 09 Feb 2025) EndedAt: 2025-02-09 15:04:07 -0500 (Sun, 09 Feb 2025) EllapsedTime: 5.6 seconds RetCode: 0 Status: OK