Package: pwalign Version: 1.3.2 Command: /home/biocbuild/R/R/bin/R CMD build --keep-empty-dirs --no-resave-data pwalign StartedAt: 2025-01-29 01:24:57 -0000 (Wed, 29 Jan 2025) EndedAt: 2025-01-29 01:26:09 -0000 (Wed, 29 Jan 2025) EllapsedTime: 72.0 seconds RetCode: 0 Status: OK PackageFile: pwalign_1.3.2.tar.gz PackageFileSize: 357.9 KiB