Package: pwalign Version: 1.3.2 Command: /home/biocbuild/R/R/bin/R CMD check --install=check:pwalign.install-out.txt --library=/home/biocbuild/R/R/site-library --no-vignettes --timings pwalign_1.3.2.tar.gz StartedAt: 2025-01-28 14:10:14 -0000 (Tue, 28 Jan 2025) EndedAt: 2025-01-28 14:12:21 -0000 (Tue, 28 Jan 2025) EllapsedTime: 127.1 seconds RetCode: 0 Status: OK CheckDir: pwalign.Rcheck Warnings: 0