Package: pwalign Version: 1.3.2 Command: rm -rf pwalign.buildbin-libdir && mkdir pwalign.buildbin-libdir && /Users/biocbuild/BBS/utils/build-universal.sh pwalign_1.3.2.tar.gz /Library/Frameworks/R.framework/Resources/bin/R pwalign.buildbin-libdir StartedAt: 2025-02-04 00:49:52 -0500 (Tue, 04 Feb 2025) EndedAt: 2025-02-04 00:50:17 -0500 (Tue, 04 Feb 2025) EllapsedTime: 25.3 seconds RetCode: 0 Status: OK PackageFile: pwalign_1.3.2.tgz PackageFileSize: 759.5 KiB