Package: pwalign Version: 1.3.2 Command: /Library/Frameworks/R.framework/Resources/bin/R CMD build --keep-empty-dirs --no-resave-data pwalign StartedAt: 2025-02-09 18:02:09 -0500 (Sun, 09 Feb 2025) EndedAt: 2025-02-09 18:03:16 -0500 (Sun, 09 Feb 2025) EllapsedTime: 66.2 seconds RetCode: 0 Status: OK PackageFile: pwalign_1.3.2.tar.gz PackageFileSize: 346.6 KiB