Package: pwalign Version: 1.3.2 Command: /home/biocbuild/bbs-3.21-bioc/R/bin/R CMD check --install=check:pwalign.install-out.txt --library=/home/biocbuild/bbs-3.21-bioc/R/site-library --timings pwalign_1.3.2.tar.gz StartedAt: 2025-02-10 01:33:29 -0500 (Mon, 10 Feb 2025) EndedAt: 2025-02-10 01:35:54 -0500 (Mon, 10 Feb 2025) EllapsedTime: 144.2 seconds RetCode: 0 Status: OK CheckDir: pwalign.Rcheck Warnings: 0