Package: pwalign Version: 1.3.2 Command: /home/biocbuild/bbs-3.21-bioc/R/bin/R CMD INSTALL pwalign StartedAt: 2025-02-09 15:49:07 -0500 (Sun, 09 Feb 2025) EndedAt: 2025-02-09 15:49:23 -0500 (Sun, 09 Feb 2025) EllapsedTime: 15.8 seconds RetCode: 0 Status: OK