Package: pwalign Version: 1.3.2 Command: chmod a+r pwalign -R && E:\biocbuild\bbs-3.21-bioc\R\bin\R.exe CMD build --keep-empty-dirs --no-resave-data pwalign StartedAt: 2025-02-09 20:54:50 -0500 (Sun, 09 Feb 2025) EndedAt: 2025-02-09 20:56:20 -0500 (Sun, 09 Feb 2025) EllapsedTime: 90.0 seconds RetCode: 0 Status: OK PackageFile: pwalign_1.3.2.tar.gz PackageFileSize: 348.7 KiB