Package: pwalign Version: 1.3.2 Command: E:\biocbuild\bbs-3.21-bioc\R\bin\R.exe CMD INSTALL pwalign StartedAt: 2025-02-03 15:49:48 -0500 (Mon, 03 Feb 2025) EndedAt: 2025-02-03 15:50:24 -0500 (Mon, 03 Feb 2025) EllapsedTime: 36.2 seconds RetCode: 0 Status: OK