Package: qPLEXanalyzer Version: 1.25.0 Command: /home/biocbuild/R/R/bin/R CMD build --keep-empty-dirs --no-resave-data qPLEXanalyzer StartedAt: 2025-01-29 01:26:21 -0000 (Wed, 29 Jan 2025) EndedAt: 2025-01-29 01:27:49 -0000 (Wed, 29 Jan 2025) EllapsedTime: 88.1 seconds RetCode: 0 Status: OK PackageFile: qPLEXanalyzer_1.25.0.tar.gz PackageFileSize: 3.108 MiB