Package: qPLEXanalyzer Version: 1.25.0 Command: chmod a+r qPLEXanalyzer -R && E:\biocbuild\bbs-3.21-bioc\R\bin\R.exe CMD build --keep-empty-dirs --no-resave-data qPLEXanalyzer StartedAt: 2025-02-12 21:02:50 -0500 (Wed, 12 Feb 2025) EndedAt: 2025-02-12 21:07:05 -0500 (Wed, 12 Feb 2025) EllapsedTime: 255.2 seconds RetCode: 0 Status: OK PackageFile: qPLEXanalyzer_1.25.0.tar.gz PackageFileSize: 3.028 MiB