Package: qckitfastq Version: 1.23.0 Command: /Library/Frameworks/R.framework/Resources/bin/R CMD check --install=check:qckitfastq.install-out.txt --library=/Library/Frameworks/R.framework/Resources/library --no-vignettes --timings qckitfastq_1.23.0.tar.gz StartedAt: 2025-02-09 20:47:53 -0500 (Sun, 09 Feb 2025) EndedAt: 2025-02-09 20:48:24 -0500 (Sun, 09 Feb 2025) EllapsedTime: 30.4 seconds RetCode: 0 Status: OK CheckDir: qckitfastq.Rcheck Warnings: 0