Package: qckitfastq Version: 1.23.0 Command: /Library/Frameworks/R.framework/Resources/bin/R CMD INSTALL qckitfastq StartedAt: 2025-02-12 15:05:40 -0500 (Wed, 12 Feb 2025) EndedAt: 2025-02-12 15:05:47 -0500 (Wed, 12 Feb 2025) EllapsedTime: 6.3 seconds RetCode: 0 Status: OK