Package: qckitfastq Version: 1.23.0 Command: /home/biocbuild/R/R/bin/R CMD build --keep-empty-dirs --no-resave-data qckitfastq StartedAt: 2025-01-29 01:25:26 -0000 (Wed, 29 Jan 2025) EndedAt: 2025-01-29 01:26:17 -0000 (Wed, 29 Jan 2025) EllapsedTime: 51.0 seconds RetCode: 0 Status: OK PackageFile: qckitfastq_1.23.0.tar.gz PackageFileSize: 968.2 KiB