Package: qckitfastq Version: 1.23.0 Command: rm -rf qckitfastq.buildbin-libdir && mkdir qckitfastq.buildbin-libdir && /Users/biocbuild/BBS/utils/build-universal.sh qckitfastq_1.23.0.tar.gz /Library/Frameworks/R.framework/Resources/bin/R qckitfastq.buildbin-libdir StartedAt: 2025-02-10 01:09:38 -0500 (Mon, 10 Feb 2025) EndedAt: 2025-02-10 01:10:04 -0500 (Mon, 10 Feb 2025) EllapsedTime: 26.6 seconds RetCode: 0 Status: OK PackageFile: qckitfastq_1.23.0.tgz PackageFileSize: 1.07 MiB